BEGIN:VCALENDAR
VERSION:2.0
PRODID:-//Plone.org//NONSGML plone.app.event//EN
X-WR-TIMEZONE:Europe/Berlin
BEGIN:VEVENT
SUMMARY:Are you emotionally ready for a conversation with your Plone site?
DTSTART;TZID=Europe/Berlin:20231005T112000
DTEND;TZID=Europe/Berlin:20231005T121000
DTSTAMP:20260422T144515Z
UID:cb0ba2e04edf438999e8a16b9e46038a
ATTENDEE;CN="Eric Bréhault";ROLE=REQ-PARTICIPANT:Eric Bréhault
CREATED:20230921T082147Z
LAST-MODIFIED:20230921T122507Z
LOCATION:https://2023.ploneconf.org/schedule/are-you-emotionally-ready-for
 -a-conversation-with-your-plone-site
URL:https://2023.ploneconf.org/schedule/are-you-emotionally-ready-for-a-co
 nversation-with-your-plone-site
END:VEVENT
BEGIN:VTIMEZONE
TZID:Europe/Berlin
X-LIC-LOCATION:Europe/Berlin
BEGIN:DAYLIGHT
DTSTART:20230326T030000
TZNAME:CEST
TZOFFSETFROM:+0100
TZOFFSETTO:+0200
END:DAYLIGHT
END:VTIMEZONE
END:VCALENDAR
