BEGIN:VCALENDAR
VERSION:2.0
PRODID:-//Plone.org//NONSGML plone.app.event//EN
X-WR-TIMEZONE:Europe/Berlin
BEGIN:VEVENT
SUMMARY:How Plone powers the websites of the largest municipalities in Cat
 alonia
DTSTART;TZID=Europe/Berlin:20231004T112000
DTEND;TZID=Europe/Berlin:20231004T121000
DTSTAMP:20260422T125244Z
UID:fd47e54a166b431fa9b7090d85711b16
ATTENDEE;CN="Marc Vicente";ROLE=REQ-PARTICIPANT:Marc Vicente
CREATED:20230921T082302Z
LAST-MODIFIED:20230921T122507Z
LOCATION:https://2023.ploneconf.org/schedule/how-plone-powers-the-websites
 -of-the-largest-municipalities-in-catalonia
URL:https://2023.ploneconf.org/schedule/how-plone-powers-the-websites-of-t
 he-largest-municipalities-in-catalonia
END:VEVENT
BEGIN:VTIMEZONE
TZID:Europe/Berlin
X-LIC-LOCATION:Europe/Berlin
BEGIN:DAYLIGHT
DTSTART:20230326T030000
TZNAME:CEST
TZOFFSETFROM:+0100
TZOFFSETTO:+0200
END:DAYLIGHT
END:VTIMEZONE
END:VCALENDAR
