BEGIN:VCALENDAR
VERSION:2.0
PRODID:-//Plone.org//NONSGML plone.app.event//EN
X-WR-TIMEZONE:Europe/Berlin
BEGIN:VEVENT
SUMMARY:The effect of social biases in language models
DTSTART;TZID=Europe/Berlin:20231005T093000
DTEND;TZID=Europe/Berlin:20231005T102000
DTSTAMP:20260422T131437Z
UID:a86d37f7bddb4ac99a8b2c1f6febccc3
ATTENDEE;CN="Olatz Perez de Viñaspre";ROLE=REQ-PARTICIPANT:Olatz Perez de
  Viñaspre
CREATED:20230921T064738Z
LAST-MODIFIED:20230921T122507Z
LOCATION:https://2023.ploneconf.org/schedule/the-effect-of-social-biases-i
 n-language-models
URL:https://2023.ploneconf.org/schedule/the-effect-of-social-biases-in-lan
 guage-models
END:VEVENT
BEGIN:VTIMEZONE
TZID:Europe/Berlin
X-LIC-LOCATION:Europe/Berlin
BEGIN:DAYLIGHT
DTSTART:20230326T030000
TZNAME:CEST
TZOFFSETFROM:+0100
TZOFFSETTO:+0200
END:DAYLIGHT
END:VTIMEZONE
END:VCALENDAR
