BEGIN:VCALENDAR
VERSION:2.0
PRODID:-//Plone.org//NONSGML plone.app.event//EN
X-WR-TIMEZONE:Europe/Berlin
BEGIN:VEVENT
SUMMARY:Volto team meeting
DTSTART;TZID=Europe/Berlin:20231005T112000
DTEND;TZID=Europe/Berlin:20231005T121000
DTSTAMP:20260422T143022Z
UID:9727925d026946fbb04178dfaff39371
ATTENDEE;CN="Victor Fernández de Alba";ROLE=REQ-PARTICIPANT:Victor Ferná
 ndez de Alba
CREATED:20231004T204606Z
LAST-MODIFIED:20231004T204754Z
LOCATION:https://2023.ploneconf.org/schedule/volto-team-meeting
URL:https://2023.ploneconf.org/schedule/volto-team-meeting
END:VEVENT
BEGIN:VTIMEZONE
TZID:Europe/Berlin
X-LIC-LOCATION:Europe/Berlin
BEGIN:DAYLIGHT
DTSTART:20230326T030000
TZNAME:CEST
TZOFFSETFROM:+0100
TZOFFSETTO:+0200
END:DAYLIGHT
END:VTIMEZONE
END:VCALENDAR
